BEGIN:VCALENDAR
VERSION:2.0
PRODID:-//Државна Изборна Комисија - ECPv6.3.7//NONSGML v1.0//EN
CALSCALE:GREGORIAN
METHOD:PUBLISH
X-WR-CALNAME:Државна Изборна Комисија
X-ORIGINAL-URL:https://www.sec.mk
X-WR-CALDESC:Events for Државна Изборна Комисија
REFRESH-INTERVAL;VALUE=DURATION:PT1H
X-Robots-Tag:noindex
X-PUBLISHED-TTL:PT1H
BEGIN:VTIMEZONE
TZID:Europe/Helsinki
BEGIN:DAYLIGHT
TZOFFSETFROM:+0200
TZOFFSETTO:+0300
TZNAME:EEST
DTSTART:20210328T010000
END:DAYLIGHT
BEGIN:STANDARD
TZOFFSETFROM:+0300
TZOFFSETTO:+0200
TZNAME:EET
DTSTART:20211031T010000
END:STANDARD
END:VTIMEZONE
BEGIN:VEVENT
DTSTART;TZID=Europe/Helsinki:20211020T000000
DTEND;TZID=Europe/Helsinki:20211020T235900
DTSTAMP:20260424T223756
CREATED:20210817T090403Z
LAST-MODIFIED:20210817T135911Z
UID:29954-1634688000-1634774340@www.sec.mk
SUMMARY:Радиодифузерите се должни Извештајот за реализирани услуги да го достават до АВМУ - прв круг
DESCRIPTION:
URL:https://www.sec.mk/nastan/radiodifuzerite-se-dolzhni-izveshtajot-za-realizirani-uslugi-da-go-dostavat-do-avmu-prv-krug/
CATEGORIES:Локални избори 2021
END:VEVENT
END:VCALENDAR