BEGIN:VCALENDAR
VERSION:2.0
PRODID:-//Државна Изборна Комисија - ECPv6.3.7//NONSGML v1.0//EN
CALSCALE:GREGORIAN
METHOD:PUBLISH
X-WR-CALNAME:Државна Изборна Комисија
X-ORIGINAL-URL:https://www.sec.mk
X-WR-CALDESC:Events for Државна Изборна Комисија
REFRESH-INTERVAL;VALUE=DURATION:PT1H
X-Robots-Tag:noindex
X-PUBLISHED-TTL:PT1H
BEGIN:VTIMEZONE
TZID:Europe/Helsinki
BEGIN:DAYLIGHT
TZOFFSETFROM:+0200
TZOFFSETTO:+0300
TZNAME:EEST
DTSTART:20210328T010000
END:DAYLIGHT
BEGIN:STANDARD
TZOFFSETFROM:+0300
TZOFFSETTO:+0200
TZNAME:EET
DTSTART:20211031T010000
END:STANDARD
END:VTIMEZONE
BEGIN:VEVENT
DTSTART;TZID=Europe/Helsinki:20210806T000000
DTEND;TZID=Europe/Helsinki:20211006T235900
DTSTAMP:20260425T013519
CREATED:20210813T094439Z
LAST-MODIFIED:20210817T135717Z
UID:10000071-1628208000-1633564740@www.sec.mk
SUMMARY:Организациите и лицата од член 161 од Изборниот законик доставуваат барање за набљудување до ДИК
DESCRIPTION:
URL:https://www.sec.mk/nastan/organizaciite-i-licata-od-chlen-161-od-izborniot-zakonik-dostavuvaat-baranje-za-nabljuduvanje-do-dik/
CATEGORIES:Локални избори 2021
END:VEVENT
BEGIN:VEVENT
DTSTART;TZID=Europe/Helsinki:20210927T000000
DTEND;TZID=Europe/Helsinki:20211015T235900
DTSTAMP:20260425T013519
CREATED:20210813T094325Z
LAST-MODIFIED:20210817T135812Z
UID:10000005-1632700800-1634342340@www.sec.mk
SUMMARY:Изборната кампања - прв круг
DESCRIPTION:
URL:https://www.sec.mk/nastan/izbornata-kampanja-prv-krug/
CATEGORIES:Локални избори 2021
END:VEVENT
BEGIN:VEVENT
DTSTART;TZID=Europe/Helsinki:20211006T000000
DTEND;TZID=Europe/Helsinki:20211006T235900
DTSTAMP:20260425T013519
CREATED:20210813T094524Z
LAST-MODIFIED:20210817T135818Z
UID:10000073-1633478400-1633564740@www.sec.mk
SUMMARY:Подносителите на листи на местото на починат можат да предложат друг кандидат
DESCRIPTION:
URL:https://www.sec.mk/nastan/podnositelite-na-listi-na-mestoto-na-pochinat-mozhat-da-predlozhat-drug-kandidat/
CATEGORIES:Локални избори 2021
END:VEVENT
END:VCALENDAR