BEGIN:VCALENDAR
VERSION:2.0
PRODID:-//Државна Изборна Комисија - ECPv6.3.7//NONSGML v1.0//EN
CALSCALE:GREGORIAN
METHOD:PUBLISH
X-WR-CALNAME:Државна Изборна Комисија
X-ORIGINAL-URL:https://www.sec.mk
X-WR-CALDESC:Events for Државна Изборна Комисија
REFRESH-INTERVAL;VALUE=DURATION:PT1H
X-Robots-Tag:noindex
X-PUBLISHED-TTL:PT1H
BEGIN:VTIMEZONE
TZID:Europe/Helsinki
BEGIN:DAYLIGHT
TZOFFSETFROM:+0200
TZOFFSETTO:+0300
TZNAME:EEST
DTSTART:20210328T010000
END:DAYLIGHT
BEGIN:STANDARD
TZOFFSETFROM:+0300
TZOFFSETTO:+0200
TZNAME:EET
DTSTART:20211031T010000
END:STANDARD
TZID:Europe/Paris
BEGIN:DAYLIGHT
TZOFFSETFROM:+0100
TZOFFSETTO:+0200
TZNAME:CEST
DTSTART:20210328T010000
END:DAYLIGHT
BEGIN:STANDARD
TZOFFSETFROM:+0200
TZOFFSETTO:+0100
TZNAME:CET
DTSTART:20211031T010000
END:STANDARD
END:VTIMEZONE
BEGIN:VEVENT
DTSTART;TZID=Europe/Helsinki:20210927T000000
DTEND;TZID=Europe/Helsinki:20211015T235900
DTSTAMP:20260425T001039
CREATED:20210813T094325Z
LAST-MODIFIED:20210817T135812Z
UID:10000005-1632700800-1634342340@www.sec.mk
SUMMARY:Изборната кампања - прв круг
DESCRIPTION:
URL:https://www.sec.mk/nastan/izbornata-kampanja-prv-krug/
CATEGORIES:Локални избори 2021
END:VEVENT
BEGIN:VEVENT
DTSTART;TZID=Europe/Paris:20211007T000000
DTEND;TZID=Europe/Paris:20211007T235900
DTSTAMP:20260425T001039
CREATED:20210813T094550Z
LAST-MODIFIED:20210817T135823Z
UID:10000075-1633564800-1633651140@www.sec.mk
SUMMARY:Учесникот во изборната кампања е должен да поднесе Извештај за примените донации на трансакциската сметка
DESCRIPTION:
URL:https://www.sec.mk/nastan/uchesnikot-vo-izbornata-kampanja-e-dolzhen-da-podnese-izveshtaj-za-primenite-donacii-na-transakciskata-smetka/
CATEGORIES:Локални избори 2021
END:VEVENT
END:VCALENDAR