BEGIN:VCALENDAR
VERSION:2.0
PRODID:-//Државна Изборна Комисија - ECPv5.9.1//NONSGML v1.0//EN
CALSCALE:GREGORIAN
METHOD:PUBLISH
X-WR-CALNAME:Државна Изборна Комисија
X-ORIGINAL-URL:https://www.sec.mk
X-WR-CALDESC:Events for Државна Изборна Комисија
BEGIN:VTIMEZONE
TZID:Europe/Helsinki
BEGIN:DAYLIGHT
TZOFFSETFROM:+0200
TZOFFSETTO:+0300
TZNAME:EEST
DTSTART:20210328T010000
END:DAYLIGHT
BEGIN:STANDARD
TZOFFSETFROM:+0300
TZOFFSETTO:+0200
TZNAME:EET
DTSTART:20211031T010000
END:STANDARD
END:VTIMEZONE
BEGIN:VEVENT
DTSTART;TZID=Europe/Helsinki:20211017T070000
DTEND;TZID=Europe/Helsinki:20211017T190000
DTSTAMP:20210926T181046
CREATED:20210813T092055Z
LAST-MODIFIED:20210817T135906Z
UID:28826-1634454000-1634497200@www.sec.mk
SUMMARY:Изборен ден - Локални избори 2021 - прв круг
DESCRIPTION:
URL:https://www.sec.mk/nastan/izboren-den-lokalni-izbori-2021/
CATEGORIES:Локални избори 2021
END:VEVENT
END:VCALENDAR