BEGIN:VCALENDAR
VERSION:2.0
PRODID:-//Државна Изборна Комисија - ECPv5.9.1//NONSGML v1.0//EN
CALSCALE:GREGORIAN
METHOD:PUBLISH
X-WR-CALNAME:Државна Изборна Комисија
X-ORIGINAL-URL:https://www.sec.mk
X-WR-CALDESC:Events for Државна Изборна Комисија
BEGIN:VTIMEZONE
TZID:Europe/Helsinki
BEGIN:DAYLIGHT
TZOFFSETFROM:+0200
TZOFFSETTO:+0300
TZNAME:EEST
DTSTART:20210328T010000
END:DAYLIGHT
BEGIN:STANDARD
TZOFFSETFROM:+0300
TZOFFSETTO:+0200
TZNAME:EET
DTSTART:20211031T010000
END:STANDARD
END:VTIMEZONE
BEGIN:VEVENT
DTSTART;TZID=Europe/Helsinki:20211025T000000
DTEND;TZID=Europe/Helsinki:20211025T235900
DTSTAMP:20210926T181253
CREATED:20210813T094702Z
LAST-MODIFIED:20210817T135916Z
UID:28923-1635120000-1635206340@www.sec.mk
SUMMARY:Се објавуваат резултати од испитувањата на јавното мислење поврзани со учесниците во изборниот процес - втор круг
DESCRIPTION:
URL:https://www.sec.mk/nastan/se-objavuvaat-rezultati-od-ispituvanjata-na-javnoto-mislenje-povrzani-so-uchesnicite-vo-izborniot-proces-vtor-krug/
CATEGORIES:Локални избори 2021
END:VEVENT
BEGIN:VEVENT
DTSTART;TZID=Europe/Helsinki:20211025T000000
DTEND;TZID=Europe/Helsinki:20211025T235900
DTSTAMP:20210926T181253
CREATED:20210817T090556Z
LAST-MODIFIED:20210817T135918Z
UID:29966-1635120000-1635206340@www.sec.mk
SUMMARY:Извештајот за реализирани услуги на радиодифузерите треба да биде потврден од АВМУ - прв круг
DESCRIPTION:
URL:https://www.sec.mk/nastan/izveshtajot-za-realizirani-uslugi-na-radiodifuzerite-treba-da-bide-potvrden-od-avmu-prv-krug/
CATEGORIES:Локални избори 2021
END:VEVENT
END:VCALENDAR