BEGIN:VCALENDAR
VERSION:2.0
PRODID:-//Државна Изборна Комисија - ECPv6.3.7//NONSGML v1.0//EN
CALSCALE:GREGORIAN
METHOD:PUBLISH
X-ORIGINAL-URL:https://www.sec.mk
X-WR-CALDESC:Events for Државна Изборна Комисија
REFRESH-INTERVAL;VALUE=DURATION:PT1H
X-Robots-Tag:noindex
X-PUBLISHED-TTL:PT1H
BEGIN:VTIMEZONE
TZID:Europe/Skopje
BEGIN:DAYLIGHT
TZOFFSETFROM:+0100
TZOFFSETTO:+0200
TZNAME:CEST
DTSTART:20240331T010000
END:DAYLIGHT
BEGIN:STANDARD
TZOFFSETFROM:+0200
TZOFFSETTO:+0100
TZNAME:CET
DTSTART:20241027T010000
END:STANDARD
END:VTIMEZONE
BEGIN:VEVENT
DTSTART;VALUE=DATE:20240429
DTEND;VALUE=DATE:20240430
DTSTAMP:20260423T102449
CREATED:20240402T053606Z
LAST-MODIFIED:20240402T053606Z
UID:10000214-1714348800-1714435199@www.sec.mk
SUMMARY:Објава на единствени кандидатски листи преку јавно објавување
DESCRIPTION:ИЗБОРИ ЗА ПРЕТСЕДАТЕЛ НА РЕПУБЛИКА СЕВЕРНА МАКЕДОНИЈА\, 2024 година
URL:https://www.sec.mk/nastan/objava-na-edinstveni-kandidatski-listi-preku-javno-objavuvanje/
CATEGORIES:Претседателски избори 2024
END:VEVENT
END:VCALENDAR