BEGIN:VCALENDAR
VERSION:2.0
PRODID:-//Државна Изборна Комисија - ECPv6.3.7//NONSGML v1.0//EN
CALSCALE:GREGORIAN
METHOD:PUBLISH
X-ORIGINAL-URL:https://www.sec.mk
X-WR-CALDESC:Events for Државна Изборна Комисија
REFRESH-INTERVAL;VALUE=DURATION:PT1H
X-Robots-Tag:noindex
X-PUBLISHED-TTL:PT1H
BEGIN:VTIMEZONE
TZID:Europe/Skopje
BEGIN:DAYLIGHT
TZOFFSETFROM:+0100
TZOFFSETTO:+0200
TZNAME:CEST
DTSTART:20240331T010000
END:DAYLIGHT
BEGIN:STANDARD
TZOFFSETFROM:+0200
TZOFFSETTO:+0100
TZNAME:CET
DTSTART:20241027T010000
END:STANDARD
END:VTIMEZONE
BEGIN:VEVENT
DTSTART;VALUE=DATE:20240526
DTEND;VALUE=DATE:20240527
DTSTAMP:20260420T072919
CREATED:20240402T062725Z
LAST-MODIFIED:20240420T111143Z
UID:10000244-1716681600-1716767999@www.sec.mk
SUMMARY:Исплата на трошоци за објавеното платено политичко рекламирање
DESCRIPTION:*рок од 30 дена по објава на конечните резултати\nИсплата на трошоци за објавеното платено политичко рекламирање\n\n\n*рок од 15 дена од затворање на трансакциска сметка\nПоднесување на вкупен финансиски извештај со спецификација за приходи и расходи во изборна кампања\n\n\n\nИЗБОРИ ЗА ПРЕТСЕДАТЕЛ НА РЕПУБЛИКА СЕВЕРНА МАКЕДОНИЈА\, 2024 година
URL:https://www.sec.mk/nastan/izveshtaj-so-troshoci-za-prihodi-i-rashodi-na-transakciska-smetka-za-izborna-kampanja-vtor-krug/
CATEGORIES:Претседателски избори 2024
END:VEVENT
BEGIN:VEVENT
DTSTART;VALUE=DATE:20240521
DTEND;VALUE=DATE:20240522
DTSTAMP:20260420T072919
CREATED:20240402T062554Z
LAST-MODIFIED:20240402T062554Z
UID:10000242-1716249600-1716335999@www.sec.mk
SUMMARY:Извештај за искористен рекламен простор
DESCRIPTION:ИЗБОРИ ЗА ПРЕТСЕДАТЕЛ НА РЕПУБЛИКА СЕВЕРНА МАКЕДОНИЈА\, 2024 година
URL:https://www.sec.mk/nastan/izveshtaj-za-iskoristen-reklamen-prostor-3/
CATEGORIES:Претседателски избори 2024
END:VEVENT
BEGIN:VEVENT
DTSTART;VALUE=DATE:20240512
DTEND;VALUE=DATE:20240513
DTSTAMP:20260420T072919
CREATED:20240402T062508Z
LAST-MODIFIED:20240402T062508Z
UID:10000241-1715472000-1715558399@www.sec.mk
SUMMARY:Извештај за платено политичко рекламирање
DESCRIPTION:ИЗБОРИ ЗА ПРЕТСЕДАТЕЛ НА РЕПУБЛИКА СЕВЕРНА МАКЕДОНИЈА\, 2024 година
URL:https://www.sec.mk/nastan/izveshtaj-za-plateno-politichko-reklamiranje/
CATEGORIES:Претседателски избори 2024
END:VEVENT
BEGIN:VEVENT
DTSTART;VALUE=DATE:20240511
DTEND;VALUE=DATE:20240512
DTSTAMP:20260420T072919
CREATED:20240402T062346Z
LAST-MODIFIED:20240402T062346Z
UID:10000239-1715385600-1715471999@www.sec.mk
SUMMARY:Извештај за реализирани услуги (втор круг)
DESCRIPTION:ИЗБОРИ ЗА ПРЕТСЕДАТЕЛ НА РЕПУБЛИКА СЕВЕРНА МАКЕДОНИЈА\, 2024 година
URL:https://www.sec.mk/nastan/izveshtaj-za-realizirani-uslugi-vtor-krug/
CATEGORIES:Претседателски избори 2024
END:VEVENT
BEGIN:VEVENT
DTSTART;TZID=Europe/Skopje:20240508T070000
DTEND;TZID=Europe/Skopje:20240508T190000
DTSTAMP:20260420T072920
CREATED:20240402T062310Z
LAST-MODIFIED:20240402T062310Z
UID:10000238-1715151600-1715194800@www.sec.mk
SUMMARY:Претседателски избори\, втор круг
DESCRIPTION:ИЗБОРИ ЗА ПРЕТСЕДАТЕЛ НА РЕПУБЛИКА СЕВЕРНА МАКЕДОНИЈА\, 2024 година
URL:https://www.sec.mk/nastan/pretsedatelski-izbori-vtor-krug/
CATEGORIES:Претседателски избори 2024
END:VEVENT
BEGIN:VEVENT
DTSTART;VALUE=DATE:20240507
DTEND;VALUE=DATE:20240508
DTSTAMP:20260420T072920
CREATED:20240402T062220Z
LAST-MODIFIED:20240402T062220Z
UID:10000237-1715040000-1715126399@www.sec.mk
SUMMARY:Извештај за искористен рекламен простор
DESCRIPTION:ИЗБОРИ ЗА ПРЕТСЕДАТЕЛ НА РЕПУБЛИКА СЕВЕРНА МАКЕДОНИЈА\, 2024 година
URL:https://www.sec.mk/nastan/izveshtaj-za-iskoristen-reklamen-prostor-2/
CATEGORIES:Претседателски избори 2024
END:VEVENT
BEGIN:VEVENT
DTSTART;VALUE=DATE:20240507
DTEND;VALUE=DATE:20240508
DTSTAMP:20260420T072920
CREATED:20240402T062116Z
LAST-MODIFIED:20240402T062116Z
UID:10000236-1715040000-1715126399@www.sec.mk
SUMMARY:Извештај со образец за примени донации на трансакциска сметка
DESCRIPTION:ИЗБОРИ ЗА ПРЕТСЕДАТЕЛ НА РЕПУБЛИКА СЕВЕРНА МАКЕДОНИЈА\, 2024 година
URL:https://www.sec.mk/nastan/izveshtaj-so-obrazec-za-primeni-donacii-na-transakciska-smetka-5/
CATEGORIES:Претседателски избори 2024
END:VEVENT
BEGIN:VEVENT
DTSTART;VALUE=DATE:20240506
DTEND;VALUE=DATE:20240507
DTSTAMP:20260420T072920
CREATED:20240402T061852Z
LAST-MODIFIED:20240402T061852Z
UID:10000235-1714953600-1715039999@www.sec.mk
SUMMARY:Завршува изборна кампања за втор круг
DESCRIPTION:ИЗБОРИ ЗА ПРЕТСЕДАТЕЛ НА РЕПУБЛИКА СЕВЕРНА МАКЕДОНИЈА\, 2024 година
URL:https://www.sec.mk/nastan/zavrshuva-izborna-kampanja-za-vtor-krug/
CATEGORIES:Претседателски избори 2024
END:VEVENT
BEGIN:VEVENT
DTSTART;VALUE=DATE:20240502
DTEND;VALUE=DATE:20240503
DTSTAMP:20260420T072920
CREATED:20240402T061814Z
LAST-MODIFIED:20240402T061814Z
UID:10000234-1714608000-1714694399@www.sec.mk
SUMMARY:Објава на резултати од испитувања на јавното мислење
DESCRIPTION:ИЗБОРИ ЗА ПРЕТСЕДАТЕЛ НА РЕПУБЛИКА СЕВЕРНА МАКЕДОНИЈА\, 2024 година
URL:https://www.sec.mk/nastan/objava-na-rezultati-od-ispituvanja-na-javnoto-mislenje-3/
CATEGORIES:Претседателски избори 2024
END:VEVENT
BEGIN:VEVENT
DTSTART;VALUE=DATE:20240429
DTEND;VALUE=DATE:20240430
DTSTAMP:20260420T072920
CREATED:20240402T053606Z
LAST-MODIFIED:20240402T053606Z
UID:10000214-1714348800-1714435199@www.sec.mk
SUMMARY:Објава на единствени кандидатски листи преку јавно објавување
DESCRIPTION:ИЗБОРИ ЗА ПРЕТСЕДАТЕЛ НА РЕПУБЛИКА СЕВЕРНА МАКЕДОНИЈА\, 2024 година
URL:https://www.sec.mk/nastan/objava-na-edinstveni-kandidatski-listi-preku-javno-objavuvanje/
CATEGORIES:Претседателски избори 2024
END:VEVENT
BEGIN:VEVENT
DTSTART;VALUE=DATE:20240427
DTEND;VALUE=DATE:20240428
DTSTAMP:20260420T072920
CREATED:20240402T061716Z
LAST-MODIFIED:20240402T061716Z
UID:10000233-1714176000-1714262399@www.sec.mk
SUMMARY:Извештај за реализирани услуги
DESCRIPTION:ИЗБОРИ ЗА ПРЕТСЕДАТЕЛ НА РЕПУБЛИКА СЕВЕРНА МАКЕДОНИЈА\, 2024 година
URL:https://www.sec.mk/nastan/izveshtaj-za-realizirani-uslugi-2/
CATEGORIES:Претседателски избори 2024
END:VEVENT
BEGIN:VEVENT
DTSTART;TZID=Europe/Skopje:20240424T070000
DTEND;TZID=Europe/Skopje:20240424T190000
DTSTAMP:20260420T072920
CREATED:20240402T061516Z
LAST-MODIFIED:20240402T061516Z
UID:10000232-1713942000-1713985200@www.sec.mk
SUMMARY:Претседателски избори\, прв круг
DESCRIPTION:*рок од 5 часа по завршување на гласањето\nДостава на изборен материјал\n\n\n*рок од 12 часа по завршување на гласањето\nДостава на изборен материјал\n\n\n*рок од 12 часа по завршување на изборите\nОбјава на првични резултати добиени по електронски пат\n\n\n*рок од 24 часа од денот на нивната конечност\nОбјава на конечни резултати\n\n\n*рок од 48 часа по прием на приговорот\nПриговор на постапката за гласање (по завршување на гласањето)\n\n\n*рок од 48 часа по прием на приговорот\nПриговор на постапката за сумирање и утврдување на резултатите (по објавување на првичните резултати)\n\n\n*рок од 72 часа по прием на приговорот\nРешение по приговор (по прием на приговорот)\n\n\n\nИЗБОРИ ЗА ПРЕТСЕДАТЕЛ НА РЕПУБЛИКА СЕВЕРНА МАКЕДОНИЈА\, 2024 година
URL:https://www.sec.mk/nastan/pretsedatelski-izbori-prv-krug/
CATEGORIES:Претседателски избори 2024
END:VEVENT
BEGIN:VEVENT
DTSTART;VALUE=DATE:20240423
DTEND;VALUE=DATE:20240424
DTSTAMP:20260420T072920
CREATED:20240402T060832Z
LAST-MODIFIED:20240402T060832Z
UID:10000229-1713830400-1713916799@www.sec.mk
SUMMARY:Гласање на немоќни и болни лица\, лица на издржување казна затвор или притвор\, внатрешно раселени лица и лица згрижени во вонсемејни установи
DESCRIPTION:ИЗБОРИ ЗА ПРЕТСЕДАТЕЛ НА РЕПУБЛИКА СЕВЕРНА МАКЕДОНИЈА\, 2024 година
URL:https://www.sec.mk/nastan/glasanje-na-nemokjni-i-bolni-lica-lica-na-izdrzhuvanje-kazna-zatvor-ili-pritvor-vnatreshno-raseleni-lica-i-lica-zgrizheni-vo-vonsemejni-ustanovi-2/
CATEGORIES:Претседателски избори 2024
END:VEVENT
BEGIN:VEVENT
DTSTART;VALUE=DATE:20240422
DTEND;VALUE=DATE:20240423
DTSTAMP:20260420T072920
CREATED:20240402T060721Z
LAST-MODIFIED:20240402T060744Z
UID:10000228-1713744000-1713830399@www.sec.mk
SUMMARY:Завршува изборна кампања
DESCRIPTION:*ден пред денот на изборите\nПредавање на изборен материјал\n\n\n\nИЗБОРИ ЗА ПРЕТСЕДАТЕЛ НА РЕПУБЛИКА СЕВЕРНА МАКЕДОНИЈА\, 2024 година
URL:https://www.sec.mk/nastan/zavrshuva-izborna-kampanja-2/
CATEGORIES:Претседателски избори 2024
END:VEVENT
BEGIN:VEVENT
DTSTART;VALUE=DATE:20240421
DTEND;VALUE=DATE:20240422
DTSTAMP:20260420T072920
CREATED:20240402T060646Z
LAST-MODIFIED:20240402T060646Z
UID:10000227-1713657600-1713743999@www.sec.mk
SUMMARY:Определување на овластен претставник на подносители на листи
DESCRIPTION:ИЗБОРИ ЗА ПРЕТСЕДАТЕЛ НА РЕПУБЛИКА СЕВЕРНА МАКЕДОНИЈА\, 2024 година
URL:https://www.sec.mk/nastan/opredeluvanje-na-ovlasten-pretstavnik-na-podnositeli-na-listi/
CATEGORIES:Претседателски избори 2024
END:VEVENT
BEGIN:VEVENT
DTSTART;TZID=Europe/Skopje:20240420T070000
DTEND;TZID=Europe/Skopje:20240420T190000
DTSTAMP:20260420T072920
CREATED:20240402T060944Z
LAST-MODIFIED:20240402T060944Z
UID:10000230-1713596400-1713639600@www.sec.mk
SUMMARY:Гласање на избирачи кои на денот на гласање се на привремена работа или престој во странство
DESCRIPTION:ИЗБОРИ ЗА ПРЕТСЕДАТЕЛ НА РЕПУБЛИКА СЕВЕРНА МАКЕДОНИЈА\, 2024 година
URL:https://www.sec.mk/nastan/glasanje-na-izbirachi-koi-na-denot-na-glasanje-se-na-privremena-rabota-ili-prestoj-vo-stranstvo-2/
CATEGORIES:Претседателски избори 2024
END:VEVENT
BEGIN:VEVENT
DTSTART;TZID=Europe/Skopje:20240420T070000
DTEND;TZID=Europe/Skopje:20240420T190000
DTSTAMP:20260420T072920
CREATED:20240402T060408Z
LAST-MODIFIED:20240402T060606Z
UID:10000226-1713596400-1713639600@www.sec.mk
SUMMARY:Гласање на членови на ИО во ДКП
DESCRIPTION:*рок од 72 часа пред денот на изборите\nПредавање на изборен материјал\n\n\n\nИЗБОРИ ЗА ПРЕТСЕДАТЕЛ НА РЕПУБЛИКА СЕВЕРНА МАКЕДОНИЈА\, 2024 година
URL:https://www.sec.mk/nastan/glasanje-na-chlenovi-na-io-vo-dkp-2/
CATEGORIES:Претседателски избори 2024
END:VEVENT
BEGIN:VEVENT
DTSTART;VALUE=DATE:20240420
DTEND;VALUE=DATE:20240421
DTSTAMP:20260420T072920
CREATED:20240402T060302Z
LAST-MODIFIED:20240402T060302Z
UID:10000225-1713571200-1713657599@www.sec.mk
SUMMARY:Известување до ОИК за гласање на лица кои се наоѓаат во куќен притвор
DESCRIPTION:ИЗБОРИ ЗА ПРЕТСЕДАТЕЛ НА РЕПУБЛИКА СЕВЕРНА МАКЕДОНИЈА\, 2024 година
URL:https://www.sec.mk/nastan/izvestuvanje-do-oik-za-glasanje-na-lica-koi-se-naogjaat-vo-kukjen-pritvor-2/
CATEGORIES:Претседателски избори 2024
END:VEVENT
BEGIN:VEVENT
DTSTART;VALUE=DATE:20240418
DTEND;VALUE=DATE:20240419
DTSTAMP:20260420T072920
CREATED:20240402T060230Z
LAST-MODIFIED:20240402T060230Z
UID:10000224-1713398400-1713484799@www.sec.mk
SUMMARY:Објава на резултати од испитувања на јавното мислење
DESCRIPTION:ИЗБОРИ ЗА ПРЕТСЕДАТЕЛ НА РЕПУБЛИКА СЕВЕРНА МАКЕДОНИЈА\, 2024 година
URL:https://www.sec.mk/nastan/objava-na-rezultati-od-ispituvanja-na-javnoto-mislenje-2/
CATEGORIES:Претседателски избори 2024
END:VEVENT
BEGIN:VEVENT
DTSTART;VALUE=DATE:20240418
DTEND;VALUE=DATE:20240419
DTSTAMP:20260420T072920
CREATED:20240402T060157Z
LAST-MODIFIED:20240402T060157Z
UID:10000223-1713398400-1713484799@www.sec.mk
SUMMARY:Предавање на изборен материјал од МНР до ДКП
DESCRIPTION:ИЗБОРИ ЗА ПРЕТСЕДАТЕЛ НА РЕПУБЛИКА СЕВЕРНА МАКЕДОНИЈА\, 2024 година
URL:https://www.sec.mk/nastan/predavanje-na-izboren-materijal-od-mnr-do-dkp-2/
CATEGORIES:Претседателски избори 2024
END:VEVENT
BEGIN:VEVENT
DTSTART;VALUE=DATE:20240417
DTEND;VALUE=DATE:20240418
DTSTAMP:20260420T072920
CREATED:20240402T060122Z
LAST-MODIFIED:20240402T060122Z
UID:10000222-1713312000-1713398399@www.sec.mk
SUMMARY:Предавање на изборен материјал на овластено лице во МНР
DESCRIPTION:ИЗБОРИ ЗА ПРЕТСЕДАТЕЛ НА РЕПУБЛИКА СЕВЕРНА МАКЕДОНИЈА\, 2024 година
URL:https://www.sec.mk/nastan/predavanje-na-izboren-materijal-na-ovlasteno-lice-vo-mnr-2/
CATEGORIES:Претседателски избори 2024
END:VEVENT
BEGIN:VEVENT
DTSTART;VALUE=DATE:20240416
DTEND;VALUE=DATE:20240417
DTSTAMP:20260420T072920
CREATED:20240402T060055Z
LAST-MODIFIED:20240402T060055Z
UID:10000221-1713225600-1713311999@www.sec.mk
SUMMARY:Известување до ОИК за гласање на немоќно или болно лице
DESCRIPTION:ИЗБОРИ ЗА ПРЕТСЕДАТЕЛ НА РЕПУБЛИКА СЕВЕРНА МАКЕДОНИЈА\, 2024 година
URL:https://www.sec.mk/nastan/izvestuvanje-do-oik-za-glasanje-na-nemokjno-ili-bolno-lice-2/
CATEGORIES:Претседателски избори 2024
END:VEVENT
BEGIN:VEVENT
DTSTART;VALUE=DATE:20240414
DTEND;VALUE=DATE:20240415
DTSTAMP:20260420T072920
CREATED:20240402T054054Z
LAST-MODIFIED:20240402T054054Z
UID:10000220-1713052800-1713139199@www.sec.mk
SUMMARY:Извештај со образец за примени донации на трансакциска сметка
DESCRIPTION:ИЗБОРИ ЗА ПРЕТСЕДАТЕЛ НА РЕПУБЛИКА СЕВЕРНА МАКЕДОНИЈА\, 2024 година
URL:https://www.sec.mk/nastan/izveshtaj-so-obrazec-za-primeni-donacii-na-transakciska-smetka-3/
CATEGORIES:Претседателски избори 2024
END:VEVENT
BEGIN:VEVENT
DTSTART;VALUE=DATE:20240408
DTEND;VALUE=DATE:20240409
DTSTAMP:20260420T072920
CREATED:20240402T054002Z
LAST-MODIFIED:20240402T054002Z
UID:10000219-1712534400-1712620799@www.sec.mk
SUMMARY:Објава на описите на избирачки места на видно место
DESCRIPTION:ИЗБОРИ ЗА ПРЕТСЕДАТЕЛ НА РЕПУБЛИКА СЕВЕРНА МАКЕДОНИЈА\, 2024 година
URL:https://www.sec.mk/nastan/objava-na-opisite-na-izbirachki-mesta-na-vidno-mesto-2/
CATEGORIES:Претседателски избори 2024
END:VEVENT
BEGIN:VEVENT
DTSTART;VALUE=DATE:20240408
DTEND;VALUE=DATE:20240409
DTSTAMP:20260420T072920
CREATED:20240402T053912Z
LAST-MODIFIED:20240402T053912Z
UID:10000218-1712534400-1712620799@www.sec.mk
SUMMARY:Потпишување на заклучениот Избирачки список
DESCRIPTION:ИЗБОРИ ЗА ПРЕТСЕДАТЕЛ НА РЕПУБЛИКА СЕВЕРНА МАКЕДОНИЈА\, 2024 година
URL:https://www.sec.mk/nastan/potpishuvanje-na-zaklucheniot-izbirachki-spisok-2/
CATEGORIES:Претседателски избори 2024
END:VEVENT
BEGIN:VEVENT
DTSTART;TZID=Europe/Skopje:20240404T000000
DTEND;TZID=Europe/Skopje:20240422T235900
DTSTAMP:20260420T072920
CREATED:20240402T053833Z
LAST-MODIFIED:20240402T053833Z
UID:10000217-1712188800-1713830340@www.sec.mk
SUMMARY:Почнува изборна кампања\, завршува на 22 април\, до 24:00 часот\, понеделник^
DESCRIPTION:ИЗБОРИ ЗА ПРЕТСЕДАТЕЛ НА РЕПУБЛИКА СЕВЕРНА МАКЕДОНИЈА\, 2024 година
URL:https://www.sec.mk/nastan/pochnuva-izborna-kampanja-zavrshuva-na-22-april-do-2400-chasot-ponedelnik/
CATEGORIES:Претседателски избори 2024
END:VEVENT
BEGIN:VEVENT
DTSTART;VALUE=DATE:20240402
DTEND;VALUE=DATE:20240403
DTSTAMP:20260420T072920
CREATED:20240402T053731Z
LAST-MODIFIED:20240402T053731Z
UID:10000216-1712016000-1712102399@www.sec.mk
SUMMARY:Потпишување на Кодекс за фер и демократски избори
DESCRIPTION:ИЗБОРИ ЗА ПРЕТСЕДАТЕЛ НА РЕПУБЛИКА СЕВЕРНА МАКЕДОНИЈА\, 2024 година
URL:https://www.sec.mk/nastan/potpishuvanje-na-kodeks-za-fer-i-demokratski-izbori-2/
CATEGORIES:Претседателски избори 2024
END:VEVENT
BEGIN:VEVENT
DTSTART;VALUE=DATE:20240402
DTEND;VALUE=DATE:20240403
DTSTAMP:20260420T072920
CREATED:20240402T053644Z
LAST-MODIFIED:20240402T053644Z
UID:10000215-1712016000-1712102399@www.sec.mk
SUMMARY:Заклучување на Избирачкиот список
DESCRIPTION:ИЗБОРИ ЗА ПРЕТСЕДАТЕЛ НА РЕПУБЛИКА СЕВЕРНА МАКЕДОНИЈА\, 2024 година
URL:https://www.sec.mk/nastan/zakluchuvanje-na-izbirachkiot-spisok-2/
CATEGORIES:Претседателски избори 2024
END:VEVENT
BEGIN:VEVENT
DTSTART;VALUE=DATE:20240329
DTEND;VALUE=DATE:20240330
DTSTAMP:20260420T072920
CREATED:20240402T053530Z
LAST-MODIFIED:20240402T053530Z
UID:10000213-1711670400-1711756799@www.sec.mk
SUMMARY:Огласување на единствената утврдена листа на кандидати
DESCRIPTION:ИЗБОРИ ЗА ПРЕТСЕДАТЕЛ НА РЕПУБЛИКА СЕВЕРНА МАКЕДОНИЈА\, 2024 година
URL:https://www.sec.mk/nastan/oglasuvanje-na-edinstvenata-utvrdena-lista-na-kandidati/
CATEGORIES:Претседателски избори 2024
END:VEVENT
BEGIN:VEVENT
DTSTART;VALUE=DATE:20240328
DTEND;VALUE=DATE:20240329
DTSTAMP:20260420T072920
CREATED:20240402T053454Z
LAST-MODIFIED:20240402T053454Z
UID:10000212-1711584000-1711670399@www.sec.mk
SUMMARY:Ждрепка за рекламни паноа и билборди
DESCRIPTION:ИЗБОРИ ЗА ПРЕТСЕДАТЕЛ НА РЕПУБЛИКА СЕВЕРНА МАКЕДОНИЈА\, 2024 година
URL:https://www.sec.mk/nastan/zhdrepka-za-reklamni-panoa-i-bilbordi-2/
CATEGORIES:Претседателски избори 2024
END:VEVENT
END:VCALENDAR