BEGIN:VCALENDAR
VERSION:2.0
PRODID:-//Komisioni Shtetëror i Zgjedhjeve - ECPv5.9.1//NONSGML v1.0//EN
CALSCALE:GREGORIAN
METHOD:PUBLISH
X-WR-CALNAME:Komisioni Shtetëror i Zgjedhjeve
X-ORIGINAL-URL:https://www.sec.mk/sq/
X-WR-CALDESC:Veprimtari për Komisioni Shtetëror i Zgjedhjeve
BEGIN:VTIMEZONE
TZID:Europe/Helsinki
BEGIN:DAYLIGHT
TZOFFSETFROM:+0200
TZOFFSETTO:+0300
TZNAME:EEST
DTSTART:20210328T010000
END:DAYLIGHT
BEGIN:STANDARD
TZOFFSETFROM:+0300
TZOFFSETTO:+0200
TZNAME:EET
DTSTART:20211031T010000
END:STANDARD
END:VTIMEZONE
BEGIN:VEVENT
DTSTART;TZID=Europe/Helsinki:20210806T000000
DTEND;TZID=Europe/Helsinki:20211006T235900
DTSTAMP:20211008T073345
CREATED:20210813T094439Z
LAST-MODIFIED:20210824T080715Z
UID:30206-1628208000-1633564740@www.sec.mk
SUMMARY:Oraganizatat dhe personat  nga neni 161 i Kodit Zgjedhor dorëzojë kërkesë për monitorim në KSHZ
DESCRIPTION:
URL:https://www.sec.mk/sq/ngjarjet/organizaciite-i-licata-od-chlen-161-od-izborniot-zakonik-dostavuvaat-baranje-za-nabljuduvanje-do-dik/
CATEGORIES:Zgjedhjet Lokale 2021
END:VEVENT
BEGIN:VEVENT
DTSTART;TZID=Europe/Helsinki:20210816T000000
DTEND;TZID=Europe/Helsinki:20210830T235900
DTSTAMP:20211008T073345
CREATED:20210813T083713Z
LAST-MODIFIED:20210824T080648Z
UID:30213-1629072000-1630367940@www.sec.mk
SUMMARY:Mbledhja e nënshkrimeve për kandidatë
DESCRIPTION:
URL:https://www.sec.mk/sq/ngjarjet/sobiranje-potpisi-za-kandidati/
CATEGORIES:Zgjedhjet Lokale 2021
END:VEVENT
BEGIN:VEVENT
DTSTART;TZID=Europe/Helsinki:20210821T000000
DTEND;TZID=Europe/Helsinki:20210909T235900
DTSTAMP:20211008T073345
CREATED:20210813T090318Z
LAST-MODIFIED:20210824T080641Z
UID:30215-1629504000-1631231940@www.sec.mk
SUMMARY:Kontrolli publik në listën zgjedhore
DESCRIPTION:
URL:https://www.sec.mk/sq/ngjarjet/javniot-uvid-na-izbirachki-spisok/
CATEGORIES:Zgjedhjet Lokale 2021
END:VEVENT
BEGIN:VEVENT
DTSTART;TZID=Europe/Helsinki:20210821T000000
DTEND;TZID=Europe/Helsinki:20210909T235900
DTSTAMP:20211008T073345
CREATED:20210813T090347Z
LAST-MODIFIED:20210824T080637Z
UID:30216-1629504000-1631231940@www.sec.mk
SUMMARY:Kërkesat për regjistrim\,plotësim dhe shlyerje të të dhënave në ekstraktet e Listës Zgjedhore
DESCRIPTION:
URL:https://www.sec.mk/sq/ngjarjet/baranja-za-zapishuvanje-dopolnuvanje-ili-brishenje-na-podatocite-vo-izvodite-na-izbirachkiot-spisok/
CATEGORIES:Zgjedhjet Lokale 2021
END:VEVENT
END:VCALENDAR