BEGIN:VCALENDAR
VERSION:2.0
PRODID:-//Komisioni Shtetëror i Zgjedhjeve - ECPv6.3.7//NONSGML v1.0//EN
CALSCALE:GREGORIAN
METHOD:PUBLISH
X-WR-CALNAME:Komisioni Shtetëror i Zgjedhjeve
X-ORIGINAL-URL:https://www.sec.mk/sq/
X-WR-CALDESC:Events for Komisioni Shtetëror i Zgjedhjeve
REFRESH-INTERVAL;VALUE=DURATION:PT1H
X-Robots-Tag:noindex
X-PUBLISHED-TTL:PT1H
BEGIN:VTIMEZONE
TZID:Europe/Helsinki
BEGIN:DAYLIGHT
TZOFFSETFROM:+0200
TZOFFSETTO:+0300
TZNAME:EEST
DTSTART:20210328T010000
END:DAYLIGHT
BEGIN:STANDARD
TZOFFSETFROM:+0300
TZOFFSETTO:+0200
TZNAME:EET
DTSTART:20211031T010000
END:STANDARD
END:VTIMEZONE
BEGIN:VEVENT
DTSTART;TZID=Europe/Helsinki:20210827T000000
DTEND;TZID=Europe/Helsinki:20210827T235900
DTSTAMP:20260424T221900
CREATED:20210813T090419Z
LAST-MODIFIED:20210824T080631Z
UID:30218-1630022400-1630108740@www.sec.mk
SUMMARY:Komunat dhe Qyteti i Shkupit janë të detyruar të shpallin kushtet për marrjen e së drejtës për përdorimin e vendeve për shfaqjen e posterave elektoral.
DESCRIPTION:
URL:https://www.sec.mk/sq/ngjarjet/opshtinite-i-gradot-skopje-se-dolzhni-da-gi-objavat-uslovite-za-dobivanje-pravo-za-koristenje-na-mestata-za-istaknuvanje-izborni-plakati/
CATEGORIES:Zgjedhjet Lokale 2021
END:VEVENT
END:VCALENDAR